BEGIN:VCALENDAR
VERSION:2.0
PRODID:-//KYCCLA - ECPv6.15.18//NONSGML v1.0//EN
CALSCALE:GREGORIAN
METHOD:PUBLISH
X-WR-CALNAME:KYCCLA
X-ORIGINAL-URL:https://www.kyccla.org/ko/
X-WR-CALDESC:KYCCLA 이벤트
REFRESH-INTERVAL;VALUE=DURATION:PT1H
X-Robots-Tag:noindex
X-PUBLISHED-TTL:PT1H
BEGIN:VTIMEZONE
TZID:America/Los_Angeles
BEGIN:DAYLIGHT
TZOFFSETFROM:-0800
TZOFFSETTO:-0700
TZNAME:PDT
DTSTART:20240310T100000
END:DAYLIGHT
BEGIN:STANDARD
TZOFFSETFROM:-0700
TZOFFSETTO:-0800
TZNAME:PST
DTSTART:20241103T090000
END:STANDARD
BEGIN:DAYLIGHT
TZOFFSETFROM:-0800
TZOFFSETTO:-0700
TZNAME:PDT
DTSTART:20250309T100000
END:DAYLIGHT
BEGIN:STANDARD
TZOFFSETFROM:-0700
TZOFFSETTO:-0800
TZNAME:PST
DTSTART:20251102T090000
END:STANDARD
BEGIN:DAYLIGHT
TZOFFSETFROM:-0800
TZOFFSETTO:-0700
TZNAME:PDT
DTSTART:20260308T100000
END:DAYLIGHT
BEGIN:STANDARD
TZOFFSETFROM:-0700
TZOFFSETTO:-0800
TZNAME:PST
DTSTART:20261101T090000
END:STANDARD
END:VTIMEZONE
BEGIN:VEVENT
DTSTART;TZID=America/Los_Angeles:20250301T090000
DTEND;TZID=America/Los_Angeles:20250301T110000
DTSTAMP:20260421T155601
CREATED:20250313T185149Z
LAST-MODIFIED:20250313T185149Z
UID:10000654-1740819600-1740826800@www.kyccla.org
SUMMARY:K-Town Beautiful March Cleanup 3/1
DESCRIPTION:Our March cleanups are just around the corner! Join us this Saturday\, March 1\, from 9:00 a.m. to 11:00 a.m. for a community cleanup at 3975 Wilshire Blvd\, Los Angeles\, CA 90010\, in the Wilshire/Wilton area. Be part of a meaningful cleanup dedicated to enhancing our community as we walk through the streets of Koreatown and work towards beautifying our neighborhood.\n\n\n \n\n\nIf you can’t make it this Saturday\, join us for our next cleanup on March 15 at 4201 Wilshire Blvd\, Los Angeles\, CA 90010\, in the Wilshire/S. Irving Blvd area! Together\, we’ll gather litter\, promote a safer and cleaner environment\, and help our community BLOOM! Start making a positive impact today by visiting BLOOM to register or click the link in our bio. #KYCCLA #KYCCBLOOM
URL:https://www.kyccla.org/ko/%ed%96%89%ec%82%ac/k-town-beautiful-march-cleanup-3-1-2/
ATTACH;FMTTYPE=image/png:https://www.kyccla.org/wp-content/uploads/2025/03/Template-4.png
END:VEVENT
BEGIN:VEVENT
DTSTART;TZID=America/Los_Angeles:20250306T173000
DTEND;TZID=America/Los_Angeles:20250306T193000
DTSTAMP:20260421T155601
CREATED:20250313T185012Z
LAST-MODIFIED:20250313T185012Z
UID:10000656-1741282200-1741289400@www.kyccla.org
SUMMARY:Wilshire FamilySource Center Family Fun Nights
DESCRIPTION:KYCC’s Wilshire FamilySource Center is excited to announce Family Fun Nights! Join us every Thursday in March at 1230 Menlo Ave.\, Suite 100\, Los Angeles\, CA 90006 for a series of special events! We will provide snacks and drinks\, along with prizes\, surprises\, and much more! For additional information\, please reach out to Deisy Gutierrez at dgutierrez@kyccla.org or call (213) 365-7400 Ext. 5149.
URL:https://www.kyccla.org/ko/%ed%96%89%ec%82%ac/wilshire-familysource-center-family-fun-nights-4/
LOCATION:1230 Menlo Ave\, Suite 100\, Los Ángeles\, CA 90006\, \n                    3727 W. 6th St. STE 300\, Los Angeles\, CA 90020\, Los Angeles\, CA\, 90020\, United States
ATTACH;FMTTYPE=image/png:https://www.kyccla.org/wp-content/uploads/2025/03/ENGLISH-8.png
GEO:34.0638328;-118.3037709
X-APPLE-STRUCTURED-LOCATION;VALUE=URI;X-ADDRESS=1230 Menlo Ave Suite 100 Los Ángeles CA 90006 \n                    3727 W. 6th St. STE 300 Los Angeles CA 90020 Los Angeles CA 90020 United States;X-APPLE-RADIUS=500;X-TITLE=\n                    3727 W. 6th St. STE 300\, Los Angeles\, CA 90020:geo:-118.3037709,34.0638328
END:VEVENT
BEGIN:VEVENT
DTSTART;TZID=America/Los_Angeles:20250313T150000
DTEND;TZID=America/Los_Angeles:20250313T170000
DTSTAMP:20260421T155601
CREATED:20250130T230919Z
LAST-MODIFIED:20250130T230919Z
UID:10000732-1741878000-1741885200@www.kyccla.org
SUMMARY:KYCC 임상 서비스 육아 워크숍
DESCRIPTION:KYCC 임상 서비스부에서 한국어를 사용하는 부모님들을 위한 6주 코스의 양육 워크숍을 준비했습니다! 이번 워크숍은 비폭력 양육을 위한 실용적인 기술을 제공하며\, 공감\, 효과적인 의사소통\, 감정 조절에 중점을 두어 부모가 자신과 아이를 더 깊이 이해할 수 있도록 돕는 것을 목표로 하고 있습니다.\n**워크숍 일정: 3월 13일부터 4월 17일까지 매주 목요일\n**시간: 오후 3시 – 5시\n**장소: 3727 W. 6th Street Suite 402\, Los Angeles\, CA 90020\n등록을 희망하는 분들은 다음의 링크(https://forms.gle/T7KTamwUHdhQy5E68)를 방문해 작성하신 뒤 제출하시면 됩니다.
URL:https://www.kyccla.org/ko/%ed%96%89%ec%82%ac/kycc-%ec%9e%84%ec%83%81-%ec%84%9c%eb%b9%84%ec%8a%a4-%ec%9c%a1%ec%95%84-%ec%9b%8c%ed%81%ac%ec%88%8d/2025-03-13/
ATTACH;FMTTYPE=image/png:https://www.kyccla.org/wp-content/uploads/2025/01/PNV-Classes-25-KOR.png
END:VEVENT
BEGIN:VEVENT
DTSTART;TZID=America/Los_Angeles:20250313T173000
DTEND;TZID=America/Los_Angeles:20250313T193000
DTSTAMP:20260421T155601
CREATED:20250313T184736Z
LAST-MODIFIED:20250313T184736Z
UID:10000658-1741887000-1741894200@www.kyccla.org
SUMMARY:Wilshire FamilySource Center Family Fun Nights
DESCRIPTION:KYCC’s Wilshire FamilySource Center is excited to announce Family Fun Nights! Join us every Thursday in March at 1230 Menlo Ave.\, Suite 100\, Los Angeles\, CA 90006 for a series of special events! We will provide snacks and drinks\, along with prizes\, surprises\, and much more! For additional information\, please reach out to Deisy Gutierrez at dgutierrez@kyccla.org or call (213) 365-7400 Ext. 5149.
URL:https://www.kyccla.org/ko/%ed%96%89%ec%82%ac/wilshire-familysource-center-family-fun-nights-3/
LOCATION:1230 Menlo Ave\, Suite 100\, Los Ángeles\, CA 90006\, \n                    3727 W. 6th St. STE 300\, Los Angeles\, CA 90020\, Los Angeles\, CA\, 90020\, United States
ATTACH;FMTTYPE=image/png:https://www.kyccla.org/wp-content/uploads/2025/03/ENGLISH-8.png
GEO:34.0638328;-118.3037709
X-APPLE-STRUCTURED-LOCATION;VALUE=URI;X-ADDRESS=1230 Menlo Ave Suite 100 Los Ángeles CA 90006 \n                    3727 W. 6th St. STE 300 Los Angeles CA 90020 Los Angeles CA 90020 United States;X-APPLE-RADIUS=500;X-TITLE=\n                    3727 W. 6th St. STE 300\, Los Angeles\, CA 90020:geo:-118.3037709,34.0638328
END:VEVENT
BEGIN:VEVENT
DTSTART;TZID=America/Los_Angeles:20250315T090000
DTEND;TZID=America/Los_Angeles:20250315T110000
DTSTAMP:20260421T155601
CREATED:20250313T184424Z
LAST-MODIFIED:20250313T184424Z
UID:10000660-1742029200-1742036400@www.kyccla.org
SUMMARY:K-Town Beautiful March Cleanup 3/1
DESCRIPTION:Our March cleanups are just around the corner! Join us this Saturday\, March 1\, from 9:00 a.m. to 11:00 a.m. for a community cleanup at 3975 Wilshire Blvd\, Los Angeles\, CA 90010\, in the Wilshire/Wilton area. Be part of a meaningful cleanup dedicated to enhancing our community as we walk through the streets of Koreatown and work towards beautifying our neighborhood.\n\n\n \n\n\nIf you can’t make it this Saturday\, join us for our next cleanup on March 15 at 4201 Wilshire Blvd\, Los Angeles\, CA 90010\, in the Wilshire/S. Irving Blvd area! Together\, we’ll gather litter\, promote a safer and cleaner environment\, and help our community BLOOM! Start making a positive impact today by visiting BLOOM to register or click the link in our bio. #KYCCLA #KYCCBLOOM
URL:https://www.kyccla.org/ko/%ed%96%89%ec%82%ac/k-town-beautiful-march-cleanup-3-1/
ATTACH;FMTTYPE=image/png:https://www.kyccla.org/wp-content/uploads/2025/03/Template-4.png
END:VEVENT
BEGIN:VEVENT
DTSTART;TZID=America/Los_Angeles:20250320T150000
DTEND;TZID=America/Los_Angeles:20250320T170000
DTSTAMP:20260421T155601
CREATED:20250130T230919Z
LAST-MODIFIED:20250130T230919Z
UID:10000733-1742482800-1742490000@www.kyccla.org
SUMMARY:KYCC 임상 서비스 육아 워크숍
DESCRIPTION:KYCC 임상 서비스부에서 한국어를 사용하는 부모님들을 위한 6주 코스의 양육 워크숍을 준비했습니다! 이번 워크숍은 비폭력 양육을 위한 실용적인 기술을 제공하며\, 공감\, 효과적인 의사소통\, 감정 조절에 중점을 두어 부모가 자신과 아이를 더 깊이 이해할 수 있도록 돕는 것을 목표로 하고 있습니다.\n**워크숍 일정: 3월 13일부터 4월 17일까지 매주 목요일\n**시간: 오후 3시 – 5시\n**장소: 3727 W. 6th Street Suite 402\, Los Angeles\, CA 90020\n등록을 희망하는 분들은 다음의 링크(https://forms.gle/T7KTamwUHdhQy5E68)를 방문해 작성하신 뒤 제출하시면 됩니다.
URL:https://www.kyccla.org/ko/%ed%96%89%ec%82%ac/kycc-%ec%9e%84%ec%83%81-%ec%84%9c%eb%b9%84%ec%8a%a4-%ec%9c%a1%ec%95%84-%ec%9b%8c%ed%81%ac%ec%88%8d/2025-03-20/
ATTACH;FMTTYPE=image/png:https://www.kyccla.org/wp-content/uploads/2025/01/PNV-Classes-25-KOR.png
END:VEVENT
BEGIN:VEVENT
DTSTART;TZID=America/Los_Angeles:20250320T150000
DTEND;TZID=America/Los_Angeles:20250320T170000
DTSTAMP:20260421T155601
CREATED:20250313T183950Z
LAST-MODIFIED:20250313T183950Z
UID:10000662-1742482800-1742490000@www.kyccla.org
SUMMARY:KYCC 임상 서비스 육아 워크숍
DESCRIPTION:KYCC 임상 서비스부에서 한국어를 사용하는 부모님들을 위한 6주 코스의 양육 워크숍을 준비했습니다! 이번 워크숍은 비폭력 양육을 위한 실용적인 기술을 제공하며\, 공감\, 효과적인 의사소통\, 감정 조절에 중점을 두어 부모가 자신과 아이를 더 깊이 이해할 수 있도록 돕는 것을 목표로 하고 있습니다.\n**워크숍 일정: 3월 13일부터 4월 17일까지 매주 목요일\n**시간: 오후 3시 – 5시\n**장소: 3727 W. 6th Street Suite 402\, Los Angeles\, CA 90020\n등록을 희망하는 분들은 다음의 링크(https://forms.gle/T7KTamwUHdhQy5E68)를 방문해 작성하신 뒤 제출하시면 됩니다.
URL:https://www.kyccla.org/ko/%ed%96%89%ec%82%ac/kycc-%ec%9e%84%ec%83%81-%ec%84%9c%eb%b9%84%ec%8a%a4-%ec%9c%a1%ec%95%84-%ec%9b%8c%ed%81%ac%ec%88%8d-6/
ATTACH;FMTTYPE=image/png:https://www.kyccla.org/wp-content/uploads/2025/01/PNV-Classes-25-KOR.png
END:VEVENT
BEGIN:VEVENT
DTSTART;TZID=America/Los_Angeles:20250320T153000
DTEND;TZID=America/Los_Angeles:20250320T163000
DTSTAMP:20260421T155601
CREATED:20250313T183721Z
LAST-MODIFIED:20250313T183721Z
UID:10000664-1742484600-1742488200@www.kyccla.org
SUMMARY:KYCC's Small Business Program Certification Workshop
DESCRIPTION:Participate in KYCC’s Small Business Program on Thursday\, March 20\, from 3:30 p.m. to 4:30 p.m. This session features guest speaker Sandra Vasquez\, Business Opportunity Specialist from the U.S. Small Business Administration\, conducting a workshop on how to apply for SBA’s Small Business Certifications. The advantages of obtaining certification include access to a dedicated expert for navigating the government contracting process\, opportunities for joint ventures with established businesses\, and additional management and technical support through the SBA 7(j) program.To register\, please visit https://bit.ly/41kIF9F. For more information\, reach out to Martin Kim at (213) 272-8240 or via email at martinkim@kyccla.org.
URL:https://www.kyccla.org/ko/%ed%96%89%ec%82%ac/kyccs-small-business-program-certification-workshop/
ATTACH;FMTTYPE=image/png:https://www.kyccla.org/wp-content/uploads/2025/03/8a-SBA-Certification.png
END:VEVENT
BEGIN:VEVENT
DTSTART;TZID=America/Los_Angeles:20250320T173000
DTEND;TZID=America/Los_Angeles:20250320T193000
DTSTAMP:20260421T155601
CREATED:20250313T183324Z
LAST-MODIFIED:20250313T183324Z
UID:10000666-1742491800-1742499000@www.kyccla.org
SUMMARY:Wilshire FamilySource Center Family Fun Nights
DESCRIPTION:KYCC’s Wilshire FamilySource Center is excited to announce Family Fun Nights! Join us every Thursday in March at 1230 Menlo Ave.\, Suite 100\, Los Angeles\, CA 90006 for a series of special events! We will provide snacks and drinks\, along with prizes\, surprises\, and much more! For additional information\, please reach out to Deisy Gutierrez at dgutierrez@kyccla.org or call (213) 365-7400 Ext. 5149.
URL:https://www.kyccla.org/ko/%ed%96%89%ec%82%ac/wilshire-familysource-center-family-fun-nights-2/
LOCATION:1230 Menlo Ave\, Suite 100\, Los Ángeles\, CA 90006\, \n                    3727 W. 6th St. STE 300\, Los Angeles\, CA 90020\, Los Angeles\, CA\, 90020\, United States
ATTACH;FMTTYPE=image/png:https://www.kyccla.org/wp-content/uploads/2025/03/ENGLISH-8.png
GEO:34.0638328;-118.3037709
X-APPLE-STRUCTURED-LOCATION;VALUE=URI;X-ADDRESS=1230 Menlo Ave Suite 100 Los Ángeles CA 90006 \n                    3727 W. 6th St. STE 300 Los Angeles CA 90020 Los Angeles CA 90020 United States;X-APPLE-RADIUS=500;X-TITLE=\n                    3727 W. 6th St. STE 300\, Los Angeles\, CA 90020:geo:-118.3037709,34.0638328
END:VEVENT
BEGIN:VEVENT
DTSTART;TZID=America/Los_Angeles:20250327T150000
DTEND;TZID=America/Los_Angeles:20250327T170000
DTSTAMP:20260421T155601
CREATED:20250130T230919Z
LAST-MODIFIED:20250130T230919Z
UID:10000734-1743087600-1743094800@www.kyccla.org
SUMMARY:KYCC 임상 서비스 육아 워크숍
DESCRIPTION:KYCC 임상 서비스부에서 한국어를 사용하는 부모님들을 위한 6주 코스의 양육 워크숍을 준비했습니다! 이번 워크숍은 비폭력 양육을 위한 실용적인 기술을 제공하며\, 공감\, 효과적인 의사소통\, 감정 조절에 중점을 두어 부모가 자신과 아이를 더 깊이 이해할 수 있도록 돕는 것을 목표로 하고 있습니다.\n**워크숍 일정: 3월 13일부터 4월 17일까지 매주 목요일\n**시간: 오후 3시 – 5시\n**장소: 3727 W. 6th Street Suite 402\, Los Angeles\, CA 90020\n등록을 희망하는 분들은 다음의 링크(https://forms.gle/T7KTamwUHdhQy5E68)를 방문해 작성하신 뒤 제출하시면 됩니다.
URL:https://www.kyccla.org/ko/%ed%96%89%ec%82%ac/kycc-%ec%9e%84%ec%83%81-%ec%84%9c%eb%b9%84%ec%8a%a4-%ec%9c%a1%ec%95%84-%ec%9b%8c%ed%81%ac%ec%88%8d/2025-03-27/
ATTACH;FMTTYPE=image/png:https://www.kyccla.org/wp-content/uploads/2025/01/PNV-Classes-25-KOR.png
END:VEVENT
BEGIN:VEVENT
DTSTART;TZID=America/Los_Angeles:20250327T150000
DTEND;TZID=America/Los_Angeles:20250327T170000
DTSTAMP:20260421T155601
CREATED:20250313T183136Z
LAST-MODIFIED:20250313T183136Z
UID:10000668-1743087600-1743094800@www.kyccla.org
SUMMARY:KYCC 임상 서비스 육아 워크숍
DESCRIPTION:KYCC 임상 서비스부에서 한국어를 사용하는 부모님들을 위한 6주 코스의 양육 워크숍을 준비했습니다! 이번 워크숍은 비폭력 양육을 위한 실용적인 기술을 제공하며\, 공감\, 효과적인 의사소통\, 감정 조절에 중점을 두어 부모가 자신과 아이를 더 깊이 이해할 수 있도록 돕는 것을 목표로 하고 있습니다.\n**워크숍 일정: 3월 13일부터 4월 17일까지 매주 목요일\n**시간: 오후 3시 – 5시\n**장소: 3727 W. 6th Street Suite 402\, Los Angeles\, CA 90020\n등록을 희망하는 분들은 다음의 링크(https://forms.gle/T7KTamwUHdhQy5E68)를 방문해 작성하신 뒤 제출하시면 됩니다.
URL:https://www.kyccla.org/ko/%ed%96%89%ec%82%ac/kycc-%ec%9e%84%ec%83%81-%ec%84%9c%eb%b9%84%ec%8a%a4-%ec%9c%a1%ec%95%84-%ec%9b%8c%ed%81%ac%ec%88%8d-5/
ATTACH;FMTTYPE=image/png:https://www.kyccla.org/wp-content/uploads/2025/01/PNV-Classes-25-KOR.png
END:VEVENT
BEGIN:VEVENT
DTSTART;TZID=America/Los_Angeles:20250327T173000
DTEND;TZID=America/Los_Angeles:20250327T193000
DTSTAMP:20260421T155601
CREATED:20250313T183007Z
LAST-MODIFIED:20250313T183007Z
UID:10000670-1743096600-1743103800@www.kyccla.org
SUMMARY:Wilshire FamilySource Center Family Fun Nights
DESCRIPTION:KYCC’s Wilshire FamilySource Center is excited to announce Family Fun Nights! Join us every Thursday in March at 1230 Menlo Ave.\, Suite 100\, Los Angeles\, CA 90006 for a series of special events! We will provide snacks and drinks\, along with prizes\, surprises\, and much more! For additional information\, please reach out to Deisy Gutierrez at dgutierrez@kyccla.org or call (213) 365-7400 Ext. 5149.
URL:https://www.kyccla.org/ko/%ed%96%89%ec%82%ac/wilshire-familysource-center-family-fun-nights/
LOCATION:1230 Menlo Ave\, Suite 100\, Los Ángeles\, CA 90006\, \n                    3727 W. 6th St. STE 300\, Los Angeles\, CA 90020\, Los Angeles\, CA\, 90020\, United States
ATTACH;FMTTYPE=image/png:https://www.kyccla.org/wp-content/uploads/2025/03/ENGLISH-8.png
GEO:34.0638328;-118.3037709
X-APPLE-STRUCTURED-LOCATION;VALUE=URI;X-ADDRESS=1230 Menlo Ave Suite 100 Los Ángeles CA 90006 \n                    3727 W. 6th St. STE 300 Los Angeles CA 90020 Los Angeles CA 90020 United States;X-APPLE-RADIUS=500;X-TITLE=\n                    3727 W. 6th St. STE 300\, Los Angeles\, CA 90020:geo:-118.3037709,34.0638328
END:VEVENT
END:VCALENDAR