BEGIN:VCALENDAR
VERSION:2.0
PRODID:-//KYCCLA - ECPv6.15.18//NONSGML v1.0//EN
CALSCALE:GREGORIAN
METHOD:PUBLISH
X-WR-CALNAME:KYCCLA
X-ORIGINAL-URL:https://www.kyccla.org/ko/
X-WR-CALDESC:KYCCLA 이벤트
REFRESH-INTERVAL;VALUE=DURATION:PT1H
X-Robots-Tag:noindex
X-PUBLISHED-TTL:PT1H
BEGIN:VTIMEZONE
TZID:America/Los_Angeles
BEGIN:DAYLIGHT
TZOFFSETFROM:-0800
TZOFFSETTO:-0700
TZNAME:PDT
DTSTART:20240310T100000
END:DAYLIGHT
BEGIN:STANDARD
TZOFFSETFROM:-0700
TZOFFSETTO:-0800
TZNAME:PST
DTSTART:20241103T090000
END:STANDARD
BEGIN:DAYLIGHT
TZOFFSETFROM:-0800
TZOFFSETTO:-0700
TZNAME:PDT
DTSTART:20250309T100000
END:DAYLIGHT
BEGIN:STANDARD
TZOFFSETFROM:-0700
TZOFFSETTO:-0800
TZNAME:PST
DTSTART:20251102T090000
END:STANDARD
BEGIN:DAYLIGHT
TZOFFSETFROM:-0800
TZOFFSETTO:-0700
TZNAME:PDT
DTSTART:20260308T100000
END:DAYLIGHT
BEGIN:STANDARD
TZOFFSETFROM:-0700
TZOFFSETTO:-0800
TZNAME:PST
DTSTART:20261101T090000
END:STANDARD
END:VTIMEZONE
BEGIN:VEVENT
DTSTART;TZID=America/Los_Angeles:20250805T083000
DTEND;TZID=America/Los_Angeles:20250805T180000
DTSTAMP:20260421T184614
CREATED:20250521T213736Z
LAST-MODIFIED:20250521T214255Z
UID:10000999-1754382600-1754416800@www.kyccla.org
SUMMARY:Elementary Summer Camp
DESCRIPTION:Join KYCC Youth Services for our Elementary Summer Camp from June 16-August 8 featuring field trips\, enrichment activities\, and more. 
URL:https://www.kyccla.org/ko/%ed%96%89%ec%82%ac/k-5-summer-camp/2025-08-05/
LOCATION:680 S. Wilton Place\, 680 S. Wilton Place\, Los Angeles\, CA\, 90005\, United States
ATTACH;FMTTYPE=image/jpeg:https://www.kyccla.org/wp-content/uploads/2025/05/2025-Elementary-Summer-Camp-Flyer.jpg
ORGANIZER;CN="Jessica Antonio":MAILTO:jantonio@kyccla.org
GEO:34.0603059;-118.3141643
X-APPLE-STRUCTURED-LOCATION;VALUE=URI;X-ADDRESS=680 S. Wilton Place 680 S. Wilton Place Los Angeles CA 90005 United States;X-APPLE-RADIUS=500;X-TITLE=680 S. Wilton Place:geo:-118.3141643,34.0603059
END:VEVENT
END:VCALENDAR