BEGIN:VCALENDAR
VERSION:2.0
PRODID:-//KYCCLA - ECPv6.15.18//NONSGML v1.0//EN
CALSCALE:GREGORIAN
METHOD:PUBLISH
X-WR-CALNAME:KYCCLA
X-ORIGINAL-URL:https://www.kyccla.org/ko/
X-WR-CALDESC:KYCCLA 이벤트
REFRESH-INTERVAL;VALUE=DURATION:PT1H
X-Robots-Tag:noindex
X-PUBLISHED-TTL:PT1H
BEGIN:VTIMEZONE
TZID:America/Los_Angeles
BEGIN:DAYLIGHT
TZOFFSETFROM:-0800
TZOFFSETTO:-0700
TZNAME:PDT
DTSTART:20240310T100000
END:DAYLIGHT
BEGIN:STANDARD
TZOFFSETFROM:-0700
TZOFFSETTO:-0800
TZNAME:PST
DTSTART:20241103T090000
END:STANDARD
BEGIN:DAYLIGHT
TZOFFSETFROM:-0800
TZOFFSETTO:-0700
TZNAME:PDT
DTSTART:20250309T100000
END:DAYLIGHT
BEGIN:STANDARD
TZOFFSETFROM:-0700
TZOFFSETTO:-0800
TZNAME:PST
DTSTART:20251102T090000
END:STANDARD
BEGIN:DAYLIGHT
TZOFFSETFROM:-0800
TZOFFSETTO:-0700
TZNAME:PDT
DTSTART:20260308T100000
END:DAYLIGHT
BEGIN:STANDARD
TZOFFSETFROM:-0700
TZOFFSETTO:-0800
TZNAME:PST
DTSTART:20261101T090000
END:STANDARD
END:VTIMEZONE
BEGIN:VEVENT
DTSTART;TZID=America/Los_Angeles:20250402T170000
DTEND;TZID=America/Los_Angeles:20250402T190000
DTSTAMP:20260421T155556
CREATED:20250313T182636Z
LAST-MODIFIED:20250313T182636Z
UID:10000672-1743613200-1743620400@www.kyccla.org
SUMMARY:KYCC's Small Business Program Top Tips Workshop 4/2
DESCRIPTION:Join KYCC’s Small Business program for the Small Business Top Tips Workshop on Wednesday\, April 2\, from 5:00 p.m. to 7:00 p.m. This session will feature guest speaker\, attorney Marco Castanos\, who will discuss essential topics such as starting your small business\, compliance\, contracts\, and more! To register\, please visit bit.ly/Bettzedek. For additional information\, feel free to contact Martin Kim at (213) 272-8240 or via email at martinkim@kyccla.org.
URL:https://www.kyccla.org/ko/%ed%96%89%ec%82%ac/kyccs-small-business-program-top-tips-workshop-4-2/
ATTACH;FMTTYPE=image/png:https://www.kyccla.org/wp-content/uploads/2025/03/Small-Business-Top-Tips.png
END:VEVENT
END:VCALENDAR