BEGIN:VCALENDAR
VERSION:2.0
PRODID:-//KYCCLA - ECPv6.15.18//NONSGML v1.0//EN
CALSCALE:GREGORIAN
METHOD:PUBLISH
X-ORIGINAL-URL:https://www.kyccla.org/ko/
X-WR-CALDESC:KYCCLA 이벤트
REFRESH-INTERVAL;VALUE=DURATION:PT1H
X-Robots-Tag:noindex
X-PUBLISHED-TTL:PT1H
BEGIN:VTIMEZONE
TZID:America/Los_Angeles
BEGIN:DAYLIGHT
TZOFFSETFROM:-0800
TZOFFSETTO:-0700
TZNAME:PDT
DTSTART:20240310T100000
END:DAYLIGHT
BEGIN:STANDARD
TZOFFSETFROM:-0700
TZOFFSETTO:-0800
TZNAME:PST
DTSTART:20241103T090000
END:STANDARD
BEGIN:DAYLIGHT
TZOFFSETFROM:-0800
TZOFFSETTO:-0700
TZNAME:PDT
DTSTART:20250309T100000
END:DAYLIGHT
BEGIN:STANDARD
TZOFFSETFROM:-0700
TZOFFSETTO:-0800
TZNAME:PST
DTSTART:20251102T090000
END:STANDARD
BEGIN:DAYLIGHT
TZOFFSETFROM:-0800
TZOFFSETTO:-0700
TZNAME:PDT
DTSTART:20260308T100000
END:DAYLIGHT
BEGIN:STANDARD
TZOFFSETFROM:-0700
TZOFFSETTO:-0800
TZNAME:PST
DTSTART:20261101T090000
END:STANDARD
END:VTIMEZONE
BEGIN:VEVENT
DTSTART;TZID=America/Los_Angeles:20250227T180000
DTEND;TZID=America/Los_Angeles:20250227T193000
DTSTAMP:20260421T142959
CREATED:20250211T200844Z
LAST-MODIFIED:20250211T200844Z
UID:10000702-1740679200-1740684600@www.kyccla.org
SUMMARY:FamilySource Center Family Fitness Night
DESCRIPTION:KYCC FamilySource Center invites you to Family Fitness Night! Join us on Thursday\, February 27 from 6:00 to 7:30 PM at 1230 Menlo Ave.\, Suite 100\, Los Angeles\, CA 90006 for a fun-filled evening! We will offer activities like yoga and Zumba for all ages! For further details\, please reach out to Deisy Gutierrez at dgutierrez@kyccla.org or call us at (213) 365-7400 Ext. 5149.
URL:https://www.kyccla.org/ko/%ed%96%89%ec%82%ac/familysource-center-family-fitness-night/
LOCATION:1230 Menlo Ave\, Suite 100\, Los Ángeles\, CA 90006\, \n                    3727 W. 6th St. STE 300\, Los Angeles\, CA 90020\, Los Angeles\, CA\, 90020\, United States
ATTACH;FMTTYPE=image/png:https://www.kyccla.org/wp-content/uploads/2025/02/ENGLISH-7.png
GEO:34.0638328;-118.3037709
X-APPLE-STRUCTURED-LOCATION;VALUE=URI;X-ADDRESS=1230 Menlo Ave Suite 100 Los Ángeles CA 90006 \n                    3727 W. 6th St. STE 300 Los Angeles CA 90020 Los Angeles CA 90020 United States;X-APPLE-RADIUS=500;X-TITLE=\n                    3727 W. 6th St. STE 300\, Los Angeles\, CA 90020:geo:-118.3037709,34.0638328
END:VEVENT
END:VCALENDAR