BEGIN:VCALENDAR
VERSION:2.0
PRODID:-//KYCCLA - ECPv6.15.18//NONSGML v1.0//EN
CALSCALE:GREGORIAN
METHOD:PUBLISH
X-WR-CALNAME:KYCCLA
X-ORIGINAL-URL:https://www.kyccla.org/es/
X-WR-CALDESC:Eventos para KYCCLA
REFRESH-INTERVAL;VALUE=DURATION:PT1H
X-Robots-Tag:noindex
X-PUBLISHED-TTL:PT1H
BEGIN:VTIMEZONE
TZID:America/Los_Angeles
BEGIN:DAYLIGHT
TZOFFSETFROM:-0800
TZOFFSETTO:-0700
TZNAME:PDT
DTSTART:20250309T100000
END:DAYLIGHT
BEGIN:STANDARD
TZOFFSETFROM:-0700
TZOFFSETTO:-0800
TZNAME:PST
DTSTART:20251102T090000
END:STANDARD
BEGIN:DAYLIGHT
TZOFFSETFROM:-0800
TZOFFSETTO:-0700
TZNAME:PDT
DTSTART:20260308T100000
END:DAYLIGHT
BEGIN:STANDARD
TZOFFSETFROM:-0700
TZOFFSETTO:-0800
TZNAME:PST
DTSTART:20261101T090000
END:STANDARD
BEGIN:DAYLIGHT
TZOFFSETFROM:-0800
TZOFFSETTO:-0700
TZNAME:PDT
DTSTART:20270314T100000
END:DAYLIGHT
BEGIN:STANDARD
TZOFFSETFROM:-0700
TZOFFSETTO:-0800
TZNAME:PST
DTSTART:20271107T090000
END:STANDARD
END:VTIMEZONE
BEGIN:VEVENT
DTSTART;TZID=America/Los_Angeles:20260514T100000
DTEND;TZID=America/Los_Angeles:20260514T110000
DTSTAMP:20260422T152021
CREATED:20260324T231352Z
LAST-MODIFIED:20260324T231352Z
UID:10001271-1778752800-1778756400@www.kyccla.org
SUMMARY:부모와 아이의  놀이수업
DESCRIPTION:이 프로그램은 5주동안 0~5세 아이와 부모님이 함께 하는 놀이 수업입니다. 동요와\, 스토리 타임\, 공예 활동이 포함된 프로그램 입니다. 매주 수업은 아이와 유대감을 쌓고 육아 지식 함양을 돕는 데 있습니다. 이전 KYCC ‘부모와 아아의 놀이 수업’에 참여하신 분들은 이번에는 등록할수 없습니다. 수업은 영어와 한국어로 진행될 예정입니다.
URL:https://www.kyccla.org/es/evento/%eb%b6%80%eb%aa%a8%ec%99%80-%ec%95%84%ec%9d%b4%ec%9d%98-%eb%86%80%ec%9d%b4%ec%88%98%ec%97%85/2026-05-14/
LOCATION:KYCC Clinical Services
ATTACH;FMTTYPE=image/jpeg:https://www.kyccla.org/wp-content/uploads/2026/03/Korean-Class-in-Kor-3.jpg
ORGANIZER;CN="Esther Shin":MAILTO:eshin@kyccla.org
END:VEVENT
BEGIN:VEVENT
DTSTART;TZID=America/Los_Angeles:20260514T110000
DTEND;TZID=America/Los_Angeles:20260514T123000
DTSTAMP:20260422T152021
CREATED:20260220T191908Z
LAST-MODIFIED:20260220T191908Z
UID:10001260-1778756400-1778761800@www.kyccla.org
SUMMARY:Spanish Workshop for Parents and Caregivers
DESCRIPTION:Join KYCC Clinical Services for a free 14-week workshop in Spanish for parents and caregivers starting on Feb. 26\, hosted every Thursday via Zoom.
URL:https://www.kyccla.org/es/evento/spanish-workshop-for-parents-and-caregivers/2026-05-14/
LOCATION:Zoom
ATTACH;FMTTYPE=image/jpeg:https://www.kyccla.org/wp-content/uploads/2026/02/KYCC-English-Parent-Workshop-1.jpg
ORGANIZER;CN="Clinical Services":MAILTO:clinical@kyccla.org
END:VEVENT
END:VCALENDAR