BEGIN:VCALENDAR
VERSION:2.0
PRODID:-//KYCCLA - ECPv6.15.18//NONSGML v1.0//EN
CALSCALE:GREGORIAN
METHOD:PUBLISH
X-ORIGINAL-URL:https://www.kyccla.org/es/
X-WR-CALDESC:Eventos para KYCCLA
REFRESH-INTERVAL;VALUE=DURATION:PT1H
X-Robots-Tag:noindex
X-PUBLISHED-TTL:PT1H
BEGIN:VTIMEZONE
TZID:America/Los_Angeles
BEGIN:DAYLIGHT
TZOFFSETFROM:-0800
TZOFFSETTO:-0700
TZNAME:PDT
DTSTART:20250309T100000
END:DAYLIGHT
BEGIN:STANDARD
TZOFFSETFROM:-0700
TZOFFSETTO:-0800
TZNAME:PST
DTSTART:20251102T090000
END:STANDARD
BEGIN:DAYLIGHT
TZOFFSETFROM:-0800
TZOFFSETTO:-0700
TZNAME:PDT
DTSTART:20260308T100000
END:DAYLIGHT
BEGIN:STANDARD
TZOFFSETFROM:-0700
TZOFFSETTO:-0800
TZNAME:PST
DTSTART:20261101T090000
END:STANDARD
BEGIN:DAYLIGHT
TZOFFSETFROM:-0800
TZOFFSETTO:-0700
TZNAME:PDT
DTSTART:20270314T100000
END:DAYLIGHT
BEGIN:STANDARD
TZOFFSETFROM:-0700
TZOFFSETTO:-0800
TZNAME:PST
DTSTART:20271107T090000
END:STANDARD
END:VTIMEZONE
BEGIN:VEVENT
DTSTART;TZID=America/Los_Angeles:20260425T090000
DTEND;TZID=America/Los_Angeles:20260425T120000
DTSTAMP:20260424T130621
CREATED:20260407T173746Z
LAST-MODIFIED:20260408T155013Z
UID:10001320-1777107600-1777118400@www.kyccla.org
SUMMARY:Kids Town Preschool Family Day Resource Fair
DESCRIPTION:Join us for the Kids Town Preschool Family Day Resource Fair! Explore local schools and community resources\, enjoy a bubble show\, fun games\, activities\, and tasty treats for the whole family.
URL:https://www.kyccla.org/es/evento/kids-town-preschool-family-day-resource-fair/
LOCATION:Kids Town Preschool\, 1140 Crenshaw Blvd.\, Los Angeles\, CA\, 90019\, United States
ATTACH;FMTTYPE=image/jpeg:https://www.kyccla.org/wp-content/uploads/2026/04/Colorful-Illustrated-Fun-Summer-Fair-Poster-1.jpg
ORGANIZER;CN="Claudia Garcia":MAILTO:cgarcia@kyccla.org
GEO:34.0514786;-118.324249
X-APPLE-STRUCTURED-LOCATION;VALUE=URI;X-ADDRESS=Kids Town Preschool 1140 Crenshaw Blvd. Los Angeles CA 90019 United States;X-APPLE-RADIUS=500;X-TITLE=1140 Crenshaw Blvd.:geo:-118.324249,34.0514786
END:VEVENT
BEGIN:VEVENT
DTSTART;TZID=America/Los_Angeles:20260425T093000
DTEND;TZID=America/Los_Angeles:20260425T120000
DTSTAMP:20260424T130621
CREATED:20260402T180557Z
LAST-MODIFIED:20260402T180557Z
UID:10001310-1777109400-1777118400@www.kyccla.org
SUMMARY:SAT Workshops
DESCRIPTION:Join KYCC’s College Corner for free SAT prep workshops from April 25 through May 30. Students must be enrolled with KYCC’s Wilshire FamilySource Center to participate and those who attend all sessions will be given a certificate of completion. Sign up today as spots are limited!
URL:https://www.kyccla.org/es/evento/sat-workshops/2026-04-25/
LOCATION:Wilshire FamilySource Center
ATTACH;FMTTYPE=image/jpeg:https://www.kyccla.org/wp-content/uploads/2026/04/2026-Spring-CC-SAT-Workshops.jpg
ORGANIZER;CN="College Corner":MAILTO:collegecorner@kyccla.org
END:VEVENT
BEGIN:VEVENT
DTSTART;TZID=America/Los_Angeles:20260425T100000
DTEND;TZID=America/Los_Angeles:20260425T130000
DTSTAMP:20260424T130621
CREATED:20260403T183934Z
LAST-MODIFIED:20260403T183934Z
UID:10001319-1777111200-1777122000@www.kyccla.org
SUMMARY:Earth Month Community Beautification Event
DESCRIPTION:Join KYCC to clean up our neighborhood and make it more livable for our community members in recognition of Earth Month! This is KYCC’s biggest clean up event of the year and will also include a free tree adoption. We can’t do it alone and need your help!
URL:https://www.kyccla.org/es/evento/earth-month-community-beautification-event/
LOCATION:Wilshire FamilySource Center
ATTACH;FMTTYPE=image/jpeg:https://www.kyccla.org/wp-content/uploads/2026/04/Earth-Month-Cleanup-Flyer-.jpg
ORGANIZER;CN="Environmental Services":MAILTO:environmental@kyccla.org
END:VEVENT
BEGIN:VEVENT
DTSTART;TZID=America/Los_Angeles:20260425T100000
DTEND;TZID=America/Los_Angeles:20260425T140000
DTSTAMP:20260424T130621
CREATED:20260402T172832Z
LAST-MODIFIED:20260402T172832Z
UID:10001308-1777111200-1777125600@www.kyccla.org
SUMMARY:National Prescription Drug Takeback Day
DESCRIPTION:Help make your communities safer by dropping off unused or expired medications for proper disposal and to prevent overdose.
URL:https://www.kyccla.org/es/evento/national-prescription-drug-takeback-day-2/
LOCATION:LAPD Rampart Station\, 1401 W. 6th Street\, CA\, 90017\, United States
ATTACH;FMTTYPE=image/jpeg:https://www.kyccla.org/wp-content/uploads/2026/04/April-2026-Rx-Takeback-Printed-Materials.jpg
ORGANIZER;CN="Prevention Education":MAILTO:prevention@kyccla.org
GEO:34.056733;-118.2670607
X-APPLE-STRUCTURED-LOCATION;VALUE=URI;X-ADDRESS=LAPD Rampart Station 1401 W. 6th Street CA 90017 United States;X-APPLE-RADIUS=500;X-TITLE=1401 W. 6th Street:geo:-118.2670607,34.056733
END:VEVENT
BEGIN:VEVENT
DTSTART;TZID=America/Los_Angeles:20260425T123000
DTEND;TZID=America/Los_Angeles:20260425T133000
DTSTAMP:20260424T130621
CREATED:20260331T182553Z
LAST-MODIFIED:20260331T182553Z
UID:10001297-1777120200-1777123800@www.kyccla.org
SUMMARY:Youth Music Therapy
DESCRIPTION:Join KYCC Recovery Services for weekly Youth Music Therapy workshops with Rhythm and Truth! Teens are welcome to join and sessions will take place every Saturday from April 11 through June 27. 
URL:https://www.kyccla.org/es/evento/youth-music-therapy/2026-04-25/
LOCATION:Recovery Services\, 3727 W. 6th Street\, Suite 411\, Los Angeles\, CA\, 90020\, United States
ATTACH;FMTTYPE=image/jpeg:https://www.kyccla.org/wp-content/uploads/2026/03/Copy-of-Music-Workshops.jpg
ORGANIZER;CN="Hiroko Makiyama":MAILTO:hmakiyama@kyccla.org
GEO:34.0638745;-118.3037736
X-APPLE-STRUCTURED-LOCATION;VALUE=URI;X-ADDRESS=Recovery Services 3727 W. 6th Street Suite 411 Los Angeles CA 90020 United States;X-APPLE-RADIUS=500;X-TITLE=3727 W. 6th Street\, Suite 411:geo:-118.3037736,34.0638745
END:VEVENT
END:VCALENDAR