BEGIN:VCALENDAR
VERSION:2.0
PRODID:-//KYCCLA - ECPv6.15.18//NONSGML v1.0//EN
CALSCALE:GREGORIAN
METHOD:PUBLISH
X-WR-CALNAME:KYCCLA
X-ORIGINAL-URL:https://www.kyccla.org/es/
X-WR-CALDESC:Eventos para KYCCLA
REFRESH-INTERVAL;VALUE=DURATION:PT1H
X-Robots-Tag:noindex
X-PUBLISHED-TTL:PT1H
BEGIN:VTIMEZONE
TZID:America/Los_Angeles
BEGIN:DAYLIGHT
TZOFFSETFROM:-0800
TZOFFSETTO:-0700
TZNAME:PDT
DTSTART:20250309T100000
END:DAYLIGHT
BEGIN:STANDARD
TZOFFSETFROM:-0700
TZOFFSETTO:-0800
TZNAME:PST
DTSTART:20251102T090000
END:STANDARD
BEGIN:DAYLIGHT
TZOFFSETFROM:-0800
TZOFFSETTO:-0700
TZNAME:PDT
DTSTART:20260308T100000
END:DAYLIGHT
BEGIN:STANDARD
TZOFFSETFROM:-0700
TZOFFSETTO:-0800
TZNAME:PST
DTSTART:20261101T090000
END:STANDARD
BEGIN:DAYLIGHT
TZOFFSETFROM:-0800
TZOFFSETTO:-0700
TZNAME:PDT
DTSTART:20270314T100000
END:DAYLIGHT
BEGIN:STANDARD
TZOFFSETFROM:-0700
TZOFFSETTO:-0800
TZNAME:PST
DTSTART:20271107T090000
END:STANDARD
END:VTIMEZONE
BEGIN:VEVENT
DTSTART;TZID=America/Los_Angeles:20260415T170000
DTEND;TZID=America/Los_Angeles:20260415T183000
DTSTAMP:20260419T071904
CREATED:20260326T163523Z
LAST-MODIFIED:20260326T163523Z
UID:10001290-1776272400-1776277800@www.kyccla.org
SUMMARY:Fortaleciendo las Habilidades de tu Vida
DESCRIPTION:¡Acompáñanos en nuestra serie de 5 talleres virtuales sobre resiliencia\, presentado por el FamilySource Center de KYCC y LAUSD! Durante cinco semanas aprenderás herramientas para fortalecer tu bienestar físico\, mental\, emocional y social\, mientras participas en espacios de meditación y afirmaciones positivas. Los talleres se llevarán a cabo todos los miércoles de 5:00 PM a 6:30 PM. Es completamente gratis y abierto a la comunidad.
URL:https://www.kyccla.org/es/evento/fortaleciendo-las-habilidades-de-tu-vida/2026-04-15/
LOCATION:Zoom
ATTACH;FMTTYPE=image/jpeg:https://www.kyccla.org/wp-content/uploads/2026/03/KYCC-FSC-LAUSD-Parent-Workshop-Series-Flyer.jpg
ORGANIZER;CN="Deisy Gutierrez":MAILTO:dgutierrez@kyccla.org
END:VEVENT
END:VCALENDAR